BEGIN:VCALENDAR
VERSION:2.0
PRODID:-//103.27.35.28//NONSGML kigkonsult.se iCalcreator 2.26.9//
CALSCALE:GREGORIAN
METHOD:PUBLISH
X-WR-CALNAME:St Luke&#039\;s Catholic Faith Community Marsden Park
X-WR-CALDESC:Be apart of something new!
X-FROM-URL:https://stlukesmarsdenpark.org.au
X-WR-TIMEZONE:Atlantic/Azores
BEGIN:VTIMEZONE
TZID:Atlantic/Azores
X-LIC-LOCATION:Atlantic/Azores
BEGIN:STANDARD
DTSTART:20201025T010000
TZOFFSETFROM:+0000
TZOFFSETTO:-0100
RDATE:20211031T010000
TZNAME:-01
END:STANDARD
BEGIN:DAYLIGHT
DTSTART:20210328T000000
TZOFFSETFROM:-0100
TZOFFSETTO:+0000
RDATE:20220327T000000
TZNAME:+00
END:DAYLIGHT
END:VTIMEZONE
BEGIN:VEVENT
UID:ai1ec-5518@stlukesmarsdenpark.org.au
DTSTAMP:20210225T090917Z
CATEGORIES:
CONTACT:
DESCRIPTION:
DTSTART;TZID=Atlantic/Azores:20200704T173000
LOCATION:St Luke's Catholic College @ Frontier Avenue\, Marsden Park
RRULE:FREQ=WEEKLY;BYDAY=SA;WKST=MO
SEQUENCE:0
SUMMARY:5.30pm Vigil Mass
URL:https://stlukesmarsdenpark.org.au/event/5-30pm-vigil-mass/
X-COST-TYPE:free
X-INSTANT-EVENT:1
END:VEVENT
END:VCALENDAR
